BEGIN:VCALENDAR
PRODID:-//Microsoft Corporation//Outlook 16.0 MIMEDIR//EN
VERSION:2.0
METHOD:REQUEST
X-MS-OLK-FORCEINSPECTOROPEN:TRUE
BEGIN:VEVENT
ATTENDEE;CN="Organisation Schule";CUTYPE=RESOURCE;ROLE=NON-PARTICIPANT;RSVP
	=TRUE:mailto:OrganisationSchule@schlieren.ch
CLASS:PUBLIC
CREATED:20260422T103515Z
DESCRIPTION:\n
DTEND;VALUE=DATE:20260530
DTSTAMP:20260422T103423Z
DTSTART;VALUE=DATE:20260529
LAST-MODIFIED:20260422T103515Z
LOCATION:Organisation Schule
ORGANIZER;CN="Schule Schlieren":mailto:schule@schlieren.ch
PRIORITY:5
SEQUENCE:0
SUMMARY;LANGUAGE=de-ch:Anmeldeschluss Sommerschwimmkurse/Freizeitkurse
TRANSP:TRANSPARENT
UID:040000008200E00074C5B7101A82E00800000000E0992F4754D2DC01000000000000000
	010000000554E4510ED7473419507668C5051C5F3
X-ALT-DESC;FMTTYPE=text/html:<html xmlns:v="urn:schemas-microsoft-com:vml" 
	xmlns:o="urn:schemas-microsoft-com:office:office" xmlns:w="urn:schemas-mic
	rosoft-com:office:word" xmlns:m="http://schemas.microsoft.com/office/2004/
	12/omml" xmlns="http://www.w3.org/TR/REC-html40"><head><meta http-equiv=Co
	ntent-Type content="text/html\; charset=us-ascii"><meta name=Generator con
	tent="Microsoft Word 15 (filtered medium)"><style><!--\n/* Font Definition
	s */\n@font-face\n	{font-family:"Cambria Math"\;\n	panose-1:2 4 5 3 5 4 6 
	3 2 4\;}\n@font-face\n	{font-family:Calibri\;\n	panose-1:2 15 5 2 2 2 4 3 
	2 4\;}\n/* Style Definitions */\np.MsoNormal\, li.MsoNormal\, div.MsoNorma
	l\n	{margin:0cm\;\n	margin-bottom:.0001pt\;\n	font-size:11.0pt\;\n	font-fa
	mily:"Calibri"\,sans-serif\;\n	mso-fareast-language:EN-US\;}\na:link\, spa
	n.MsoHyperlink\n	{mso-style-priority:99\;\n	color:#0563C1\;\n	text-decorat
	ion:underline\;}\na:visited\, span.MsoHyperlinkFollowed\n	{mso-style-prior
	ity:99\;\n	color:#954F72\;\n	text-decoration:underline\;}\np.msonormal0\, 
	li.msonormal0\, div.msonormal0\n	{mso-style-name:msonormal\;\n	mso-margin-
	top-alt:auto\;\n	margin-right:0cm\;\n	mso-margin-bottom-alt:auto\;\n	margi
	n-left:0cm\;\n	font-size:12.0pt\;\n	font-family:"Times New Roman"\,serif\;
	}\nspan.E-MailFormatvorlage18\n	{mso-style-type:personal-compose\;\n	font-
	family:"Arial"\,sans-serif\;\n	color:windowtext\;\n	font-weight:normal\;\n
		font-style:normal\;}\n.MsoChpDefault\n	{mso-style-type:export-only\;\n	fo
	nt-size:10.0pt\;\n	font-family:"Calibri"\,sans-serif\;\n	mso-fareast-langu
	age:EN-US\;}\n@page WordSection1\n	{size:612.0pt 792.0pt\;\n	margin:70.85p
	t 70.85pt 2.0cm 70.85pt\;}\ndiv.WordSection1\n	{page:WordSection1\;}\n--><
	/style><!--[if gte mso 9]><xml>\n<o:shapedefaults v:ext="edit" spidmax="10
	26" />\n</xml><![endif]--><!--[if gte mso 9]><xml>\n<o:shapelayout v:ext="
	edit">\n<o:idmap v:ext="edit" data="1" />\n</o:shapelayout></xml><![endif]
	--></head><body lang=DE-CH link="#0563C1" vlink="#954F72"><div class=WordS
	ection1><p class=MsoNormal><span style='font-size:10.0pt\;font-family:"Ari
	al"\,sans-serif'><o:p>&nbsp\;</o:p></span></p></div></body></html>
X-MICROSOFT-CDO-BUSYSTATUS:FREE
X-MICROSOFT-CDO-IMPORTANCE:1
X-MICROSOFT-DISALLOW-COUNTER:FALSE
X-MS-OLK-APPTSEQTIME:20260422T103423Z
X-MS-OLK-AUTOFILLLOCATION:TRUE
X-MS-OLK-CONFTYPE:0
X-MS-OLK-SENDER;CN="Schule Schlieren":mailto:schule@schlieren.ch
END:VEVENT
END:VCALENDAR
